
BEGIN:VCALENDAR

VERSION:2.0

PRODID:-//CFLIB.ORG//iCalUS()//EN

CALSCALE:GREGORIAN

BEGIN:VEVENT

UID:B6C9F3D2-DA19-14EF-E1F638CA39F7D69E@cflib.org

DTSTAMP:20260420T131551Z

DTSTART:20260415T150000Z

DTEND:20260415T160000Z

SUMMARY:The Iran Conflict: Risks for the Global Economy

END:VEVENT

END:VCALENDAR
