
BEGIN:VCALENDAR

VERSION:2.0

PRODID:-//CFLIB.ORG//iCalUS()//EN

CALSCALE:GREGORIAN

BEGIN:VEVENT

UID:B6C6018A-BDFA-1DCC-292E78662F087EB1@cflib.org

DTSTAMP:20260420T131526Z

DTSTART:20260423T130000Z

DTEND:20260424T163000Z

SUMMARY:2026 Corporate Citizenship Summit

LOCATION:New York Marriott Marquis

END:VEVENT

END:VCALENDAR
